BEGIN:VCALENDAR
VERSION:2.0
PRODID:-//Ciudadanos | Málaga Ciudad - ECPv4.6.7//NONSGML v1.0//EN
CALSCALE:GREGORIAN
METHOD:PUBLISH
X-WR-CALNAME:Ciudadanos | Málaga Ciudad
X-ORIGINAL-URL:http://malaga-ciudad.ciudadanos-cs.org
X-WR-CALDESC:Events for Ciudadanos | Málaga Ciudad
BEGIN:VEVENT
DTSTART;TZID=UTC+0:20170704T100000
DTEND;TZID=UTC+0:20170704T113000
DTSTAMP:20260422T112133
CREATED:20170703T113833Z
LAST-MODIFIED:20170703T113833Z
UID:10357-1499162400-1499167800@malaga-ciudad.ciudadanos-cs.org
SUMMARY:Acto empresarios (Juan Cassá)
DESCRIPTION:
URL:http://malaga-ciudad.ciudadanos-cs.org/evento/acto-empresarios-juan-cassa/
END:VEVENT
END:VCALENDAR