BEGIN:VCALENDAR
VERSION:2.0
PRODID:-//Ciudadanos | Málaga Ciudad - ECPv4.6.7//NONSGML v1.0//EN
CALSCALE:GREGORIAN
METHOD:PUBLISH
X-WR-CALNAME:Ciudadanos | Málaga Ciudad
X-ORIGINAL-URL:http://malaga-ciudad.ciudadanos-cs.org
X-WR-CALDESC:Events for Ciudadanos | Málaga Ciudad
BEGIN:VEVENT
DTSTART;TZID=UTC+0:20170628T200000
DTEND;TZID=UTC+0:20170628T210000
DTSTAMP:20260423T052130
CREATED:20170626T061849Z
LAST-MODIFIED:20170626T061849Z
UID:10266-1498680000-1498683600@malaga-ciudad.ciudadanos-cs.org
SUMMARY:Asamblea Noroeste (Alejandro Carballo)
DESCRIPTION:
URL:http://malaga-ciudad.ciudadanos-cs.org/evento/asamblea-noroeste-alejandro-carballo-2/
END:VEVENT
END:VCALENDAR