BEGIN:VCALENDAR
VERSION:2.0
PRODID:-//Ciudadanos | Málaga Ciudad - ECPv4.6.7//NONSGML v1.0//EN
CALSCALE:GREGORIAN
METHOD:PUBLISH
X-WR-CALNAME:Ciudadanos | Málaga Ciudad
X-ORIGINAL-URL:http://malaga-ciudad.ciudadanos-cs.org
X-WR-CALDESC:Events for Ciudadanos | Málaga Ciudad
BEGIN:VEVENT
DTSTART;TZID=UTC+0:20171111T210000
DTEND;TZID=UTC+0:20171111T230000
DTSTAMP:20260422T191256
CREATED:20171108T091934Z
LAST-MODIFIED:20171108T091934Z
UID:12840-1510434000-1510441200@malaga-ciudad.ciudadanos-cs.org
SUMMARY:Cena benéfica cofradía Rescate (Juan Cassá)
DESCRIPTION:
URL:http://malaga-ciudad.ciudadanos-cs.org/evento/cena-benefica-cofradia-rescate-juan-cassa/
END:VEVENT
END:VCALENDAR