BEGIN:VCALENDAR
VERSION:2.0
PRODID:-//Ciudadanos | Málaga Ciudad - ECPv4.6.7//NONSGML v1.0//EN
CALSCALE:GREGORIAN
METHOD:PUBLISH
X-WR-CALNAME:Ciudadanos | Málaga Ciudad
X-ORIGINAL-URL:http://malaga-ciudad.ciudadanos-cs.org
X-WR-CALDESC:Events for Ciudadanos | Málaga Ciudad
BEGIN:VEVENT
DTSTART;TZID=UTC+0:20171120T120000
DTEND;TZID=UTC+0:20171120T140000
DTSTAMP:20260425T024947
CREATED:20171115T163630Z
LAST-MODIFIED:20171115T163655Z
UID:13031-1511179200-1511186400@malaga-ciudad.ciudadanos-cs.org
SUMMARY:Comisión Medio Ambiente (Juan Cassá)
DESCRIPTION:
URL:http://malaga-ciudad.ciudadanos-cs.org/evento/comision-sostenibilidad-medio-ambiente-juan-cassa/
END:VEVENT
END:VCALENDAR