BEGIN:VCALENDAR
VERSION:2.0
PRODID:-//Ciudadanos | Málaga Ciudad - ECPv4.6.7//NONSGML v1.0//EN
CALSCALE:GREGORIAN
METHOD:PUBLISH
X-WR-CALNAME:Ciudadanos | Málaga Ciudad
X-ORIGINAL-URL:http://malaga-ciudad.ciudadanos-cs.org
X-WR-CALDESC:Events for Ciudadanos | Málaga Ciudad
BEGIN:VEVENT
DTSTART;TZID=UTC+0:20171120T110000
DTEND;TZID=UTC+0:20171120T120000
DTSTAMP:20260425T011600
CREATED:20171120T084812Z
LAST-MODIFIED:20171120T084829Z
UID:13074-1511175600-1511179200@malaga-ciudad.ciudadanos-cs.org
SUMMARY:Consejo Teatro Cervantes (Alejandro Carballo)
DESCRIPTION:
URL:http://malaga-ciudad.ciudadanos-cs.org/evento/consejo-cervantes-alejandro-carballo/
END:VEVENT
END:VCALENDAR