BEGIN:VCALENDAR
VERSION:2.0
PRODID:-//Ciudadanos | Málaga Ciudad - ECPv4.6.7//NONSGML v1.0//EN
CALSCALE:GREGORIAN
METHOD:PUBLISH
X-WR-CALNAME:Ciudadanos | Málaga Ciudad
X-ORIGINAL-URL:http://malaga-ciudad.ciudadanos-cs.org
X-WR-CALDESC:Events for Ciudadanos | Málaga Ciudad
BEGIN:VEVENT
DTSTART;TZID=UTC+0:20170630T170000
DTEND;TZID=UTC+0:20170630T210000
DTSTAMP:20260422T225956
CREATED:20170522T094807Z
LAST-MODIFIED:20170522T094807Z
UID:9295-1498842000-1498856400@malaga-ciudad.ciudadanos-cs.org
SUMMARY:Consejo General Cs (Juan Cassá)
DESCRIPTION:
URL:http://malaga-ciudad.ciudadanos-cs.org/evento/consejo-general-cs-juan-cassa-2/
END:VEVENT
END:VCALENDAR