BEGIN:VCALENDAR
VERSION:2.0
PRODID:-//Ciudadanos | Málaga Ciudad - ECPv4.6.7//NONSGML v1.0//EN
CALSCALE:GREGORIAN
METHOD:PUBLISH
X-WR-CALNAME:Ciudadanos | Málaga Ciudad
X-ORIGINAL-URL:http://malaga-ciudad.ciudadanos-cs.org
X-WR-CALDESC:Events for Ciudadanos | Málaga Ciudad
BEGIN:VEVENT
DTSTART;TZID=UTC+0:20171117T140000
DTEND;TZID=UTC+0:20171117T150000
DTSTAMP:20260424T141818
CREATED:20171115T162313Z
LAST-MODIFIED:20171115T162313Z
UID:13018-1510927200-1510930800@malaga-ciudad.ciudadanos-cs.org
SUMMARY:Consejo Museo Revello Toro (Juan Cassá)
DESCRIPTION:
URL:http://malaga-ciudad.ciudadanos-cs.org/evento/consejo-museo-revello-toro-juan-cassa/
END:VEVENT
END:VCALENDAR