BEGIN:VCALENDAR
VERSION:2.0
PRODID:-//Ciudadanos | Málaga Ciudad - ECPv4.6.7//NONSGML v1.0//EN
CALSCALE:GREGORIAN
METHOD:PUBLISH
X-WR-CALNAME:Ciudadanos | Málaga Ciudad
X-ORIGINAL-URL:http://malaga-ciudad.ciudadanos-cs.org
X-WR-CALDESC:Events for Ciudadanos | Málaga Ciudad
BEGIN:VEVENT
DTSTART;TZID=UTC+0:20171117T120000
DTEND;TZID=UTC+0:20171117T130000
DTSTAMP:20260424T140158
CREATED:20171115T162230Z
LAST-MODIFIED:20171115T162230Z
UID:13016-1510920000-1510923600@malaga-ciudad.ciudadanos-cs.org
SUMMARY:Debate Cadena SER (Juan Cassá)
DESCRIPTION:
URL:http://malaga-ciudad.ciudadanos-cs.org/evento/debate-cadena-ser-juan-cassa-32/
END:VEVENT
END:VCALENDAR