BEGIN:VCALENDAR
VERSION:2.0
PRODID:-//Ciudadanos | Málaga Ciudad - ECPv4.6.7//NONSGML v1.0//EN
CALSCALE:GREGORIAN
METHOD:PUBLISH
X-WR-CALNAME:Ciudadanos | Málaga Ciudad
X-ORIGINAL-URL:http://malaga-ciudad.ciudadanos-cs.org
X-WR-CALDESC:Events for Ciudadanos | Málaga Ciudad
BEGIN:VEVENT
DTSTART;TZID=UTC+0:20170703T100000
DTEND;TZID=UTC+0:20170703T110000
DTSTAMP:20260422T162708
CREATED:20170628T061300Z
LAST-MODIFIED:20170628T061300Z
UID:10304-1499076000-1499079600@malaga-ciudad.ciudadanos-cs.org
SUMMARY:Entrevista El Confidencial (Juan Cassá)
DESCRIPTION:
URL:http://malaga-ciudad.ciudadanos-cs.org/evento/entrevista-el-confidencial-juan-cassa/
END:VEVENT
END:VCALENDAR