BEGIN:VCALENDAR
VERSION:2.0
PRODID:-//Ciudadanos | Málaga Ciudad - ECPv4.6.7//NONSGML v1.0//EN
CALSCALE:GREGORIAN
METHOD:PUBLISH
X-WR-CALNAME:Ciudadanos | Málaga Ciudad
X-ORIGINAL-URL:http://malaga-ciudad.ciudadanos-cs.org
X-WR-CALDESC:Events for Ciudadanos | Málaga Ciudad
BEGIN:VEVENT
DTSTART;TZID=UTC+0:20171116T090000
DTEND;TZID=UTC+0:20171116T190000
DTSTAMP:20260424T011908
CREATED:20171116T083826Z
LAST-MODIFIED:20171116T083826Z
UID:13040-1510822800-1510858800@malaga-ciudad.ciudadanos-cs.org
SUMMARY:Formación Sevilla (Juan Cassá)
DESCRIPTION:
URL:http://malaga-ciudad.ciudadanos-cs.org/evento/formacion-sevilla-juan-cassa/
END:VEVENT
END:VCALENDAR