BEGIN:VCALENDAR
VERSION:2.0
PRODID:-//Ciudadanos | Málaga Ciudad - ECPv4.6.7//NONSGML v1.0//EN
CALSCALE:GREGORIAN
METHOD:PUBLISH
X-WR-CALNAME:Ciudadanos | Málaga Ciudad
X-ORIGINAL-URL:http://malaga-ciudad.ciudadanos-cs.org
X-WR-CALDESC:Events for Ciudadanos | Málaga Ciudad
BEGIN:VEVENT
DTSTART;TZID=UTC+0:20171116T093000
DTEND;TZID=UTC+0:20171116T103000
DTSTAMP:20260424T024353
CREATED:20171115T161838Z
LAST-MODIFIED:20171115T161838Z
UID:13010-1510824600-1510828200@malaga-ciudad.ciudadanos-cs.org
SUMMARY:Foro Lidera Málaga (Alejandro Carballo)
DESCRIPTION:
URL:http://malaga-ciudad.ciudadanos-cs.org/evento/foro-lidera-malaga-alejandro-carballo/
END:VEVENT
END:VCALENDAR