BEGIN:VCALENDAR
VERSION:2.0
PRODID:-//Ciudadanos | Málaga Ciudad - ECPv4.6.7//NONSGML v1.0//EN
CALSCALE:GREGORIAN
METHOD:PUBLISH
X-WR-CALNAME:Ciudadanos | Málaga Ciudad
X-ORIGINAL-URL:http://malaga-ciudad.ciudadanos-cs.org
X-WR-CALDESC:Events for Ciudadanos | Málaga Ciudad
BEGIN:VEVENT
DTSTART;TZID=UTC+0:20171110T130000
DTEND;TZID=UTC+0:20171110T140000
DTSTAMP:20260422T065443
CREATED:20171108T091555Z
LAST-MODIFIED:20171109T191103Z
UID:12832-1510318800-1510322400@malaga-ciudad.ciudadanos-cs.org
SUMMARY:Foro Telecos (Alejandro Carballo)
DESCRIPTION:
URL:http://malaga-ciudad.ciudadanos-cs.org/evento/foro-telecos-juan-cassa/
END:VEVENT
END:VCALENDAR