BEGIN:VCALENDAR
VERSION:2.0
PRODID:-//Ciudadanos | Málaga Ciudad - ECPv4.6.7//NONSGML v1.0//EN
CALSCALE:GREGORIAN
METHOD:PUBLISH
X-WR-CALNAME:Ciudadanos | Málaga Ciudad
X-ORIGINAL-URL:http://malaga-ciudad.ciudadanos-cs.org
X-WR-CALDESC:Events for Ciudadanos | Málaga Ciudad
BEGIN:VEVENT
DTSTART;TZID=UTC+0:20171113T100000
DTEND;TZID=UTC+0:20171113T110000
DTSTAMP:20260422T205718
CREATED:20171108T092350Z
LAST-MODIFIED:20171113T104754Z
UID:12842-1510567200-1510570800@malaga-ciudad.ciudadanos-cs.org
SUMMARY:Rueda de prensa (Juan Cassá)
DESCRIPTION:
URL:http://malaga-ciudad.ciudadanos-cs.org/evento/grabacion-video-redes-sociales-juan-cassa/
END:VEVENT
END:VCALENDAR