BEGIN:VCALENDAR
VERSION:2.0
PRODID:-//Ciudadanos | Málaga Ciudad - ECPv4.6.7//NONSGML v1.0//EN
CALSCALE:GREGORIAN
METHOD:PUBLISH
X-WR-CALNAME:Ciudadanos | Málaga Ciudad
X-ORIGINAL-URL:http://malaga-ciudad.ciudadanos-cs.org
X-WR-CALDESC:Events for Ciudadanos | Málaga Ciudad
BEGIN:VEVENT
DTSTART;TZID=UTC+0:20171118T133000
DTEND;TZID=UTC+0:20171118T143000
DTSTAMP:20260424T155426
CREATED:20171115T162617Z
LAST-MODIFIED:20171115T162617Z
UID:13023-1511011800-1511015400@malaga-ciudad.ciudadanos-cs.org
SUMMARY:Mercadillo Protectora (Íñigo Vallejo)
DESCRIPTION:
URL:http://malaga-ciudad.ciudadanos-cs.org/evento/mercadillo-protectora-inigo-vallejo/
END:VEVENT
END:VCALENDAR