BEGIN:VCALENDAR
VERSION:2.0
PRODID:-//Ciudadanos | Málaga Ciudad - ECPv4.6.7//NONSGML v1.0//EN
CALSCALE:GREGORIAN
METHOD:PUBLISH
X-WR-CALNAME:Ciudadanos | Málaga Ciudad
X-ORIGINAL-URL:http://malaga-ciudad.ciudadanos-cs.org
X-WR-CALDESC:Events for Ciudadanos | Málaga Ciudad
BEGIN:VEVENT
DTSTART;TZID=UTC+0:20170628T173000
DTEND;TZID=UTC+0:20170628T193000
DTSTAMP:20260423T091551
CREATED:20170624T062905Z
LAST-MODIFIED:20170624T062905Z
UID:10246-1498671000-1498678200@malaga-ciudad.ciudadanos-cs.org
SUMMARY:Oficina Atención Ciudadana (Alejandro Carballo)
DESCRIPTION:
URL:http://malaga-ciudad.ciudadanos-cs.org/evento/oficina-atencion-ciudadana-alejandro-carballo-22/
END:VEVENT
END:VCALENDAR