BEGIN:VCALENDAR
VERSION:2.0
PRODID:-//Ciudadanos | Málaga Ciudad - ECPv4.6.7//NONSGML v1.0//EN
CALSCALE:GREGORIAN
METHOD:PUBLISH
X-WR-CALNAME:Ciudadanos | Málaga Ciudad
X-ORIGINAL-URL:http://malaga-ciudad.ciudadanos-cs.org
X-WR-CALDESC:Events for Ciudadanos | Málaga Ciudad
BEGIN:VEVENT
DTSTART;TZID=UTC+0:20171108T100000
DTEND;TZID=UTC+0:20171108T120000
DTSTAMP:20260421T155227
CREATED:20171107T113807Z
LAST-MODIFIED:20171107T113807Z
UID:12803-1510135200-1510142400@malaga-ciudad.ciudadanos-cs.org
SUMMARY:Pleno extraordinario (grupo municipal)
DESCRIPTION:
URL:http://malaga-ciudad.ciudadanos-cs.org/evento/pleno-extraordinario-grupo-municipal-2/
END:VEVENT
END:VCALENDAR