BEGIN:VCALENDAR
VERSION:2.0
PRODID:-//Ciudadanos | Málaga Ciudad - ECPv4.6.7//NONSGML v1.0//EN
CALSCALE:GREGORIAN
METHOD:PUBLISH
X-WR-CALNAME:Ciudadanos | Málaga Ciudad
X-ORIGINAL-URL:http://malaga-ciudad.ciudadanos-cs.org
X-WR-CALDESC:Events for Ciudadanos | Málaga Ciudad
BEGIN:VEVENT
DTSTART;TZID=UTC+0:20171109T200000
DTEND;TZID=UTC+0:20171109T210000
DTSTAMP:20260422T015410
CREATED:20171108T091101Z
LAST-MODIFIED:20171109T191159Z
UID:12822-1510257600-1510261200@malaga-ciudad.ciudadanos-cs.org
SUMMARY:Premios Unión Profesional Sanitaria de Málaga (Íñigo Vallejo)
DESCRIPTION:
URL:http://malaga-ciudad.ciudadanos-cs.org/evento/premios-union-profesional-sanitaria-de-malaga-juan-cassa/
END:VEVENT
END:VCALENDAR