BEGIN:VCALENDAR
VERSION:2.0
PRODID:-//Ciudadanos | Málaga Ciudad - ECPv4.6.7//NONSGML v1.0//EN
CALSCALE:GREGORIAN
METHOD:PUBLISH
X-WR-CALNAME:Ciudadanos | Málaga Ciudad
X-ORIGINAL-URL:http://malaga-ciudad.ciudadanos-cs.org
X-WR-CALDESC:Events for Ciudadanos | Málaga Ciudad
BEGIN:VEVENT
DTSTART;TZID=UTC+0:20170710T110000
DTEND;TZID=UTC+0:20170710T120000
DTSTAMP:20260421T172452
CREATED:20170710T051456Z
LAST-MODIFIED:20170710T051456Z
UID:10402-1499684400-1499688000@malaga-ciudad.ciudadanos-cs.org
SUMMARY:Presentación Abanderado Feria (Íñigo Vallejo)
DESCRIPTION:
URL:http://malaga-ciudad.ciudadanos-cs.org/evento/presentacion-abanderado-feria-inigo-vallejo/
END:VEVENT
END:VCALENDAR