BEGIN:VCALENDAR
VERSION:2.0
PRODID:-//Ciudadanos | Málaga Ciudad - ECPv4.6.7//NONSGML v1.0//EN
CALSCALE:GREGORIAN
METHOD:PUBLISH
X-WR-CALNAME:Ciudadanos | Málaga Ciudad
X-ORIGINAL-URL:http://malaga-ciudad.ciudadanos-cs.org
X-WR-CALDESC:Events for Ciudadanos | Málaga Ciudad
BEGIN:VEVENT
DTSTART;TZID=UTC+0:20171115T200000
DTEND;TZID=UTC+0:20171115T210000
DTSTAMP:20260423T235246
CREATED:20171115T091403Z
LAST-MODIFIED:20171115T125142Z
UID:13006-1510776000-1510779600@malaga-ciudad.ciudadanos-cs.org
SUMMARY:Rastrillo benéfico cofradía Expiración (Íñigo Vallejo)
DESCRIPTION:
URL:http://malaga-ciudad.ciudadanos-cs.org/evento/rastrillo-benefico-cofradia-expiracion-inigo-vallejo/
END:VEVENT
END:VCALENDAR