BEGIN:VCALENDAR
VERSION:2.0
PRODID:-//Ciudadanos | Málaga Ciudad - ECPv4.6.7//NONSGML v1.0//EN
CALSCALE:GREGORIAN
METHOD:PUBLISH
X-WR-CALNAME:Ciudadanos | Málaga Ciudad
X-ORIGINAL-URL:http://malaga-ciudad.ciudadanos-cs.org
X-WR-CALDESC:Events for Ciudadanos | Málaga Ciudad
BEGIN:VEVENT
DTSTART;TZID=UTC+0:20171113T140000
DTEND;TZID=UTC+0:20171113T160000
DTSTAMP:20260423T014257
CREATED:20171108T092502Z
LAST-MODIFIED:20171108T092502Z
UID:12846-1510581600-1510588800@malaga-ciudad.ciudadanos-cs.org
SUMMARY:Reunión Agrupación Cofradías (Juan Cassá)
DESCRIPTION:
URL:http://malaga-ciudad.ciudadanos-cs.org/evento/reunion-agrupacion-cofradias-juan-cassa-2/
END:VEVENT
END:VCALENDAR