BEGIN:VCALENDAR
VERSION:2.0
PRODID:-//Ciudadanos | Málaga Ciudad - ECPv4.6.7//NONSGML v1.0//EN
CALSCALE:GREGORIAN
METHOD:PUBLISH
X-WR-CALNAME:Ciudadanos | Málaga Ciudad
X-ORIGINAL-URL:http://malaga-ciudad.ciudadanos-cs.org
X-WR-CALDESC:Events for Ciudadanos | Málaga Ciudad
BEGIN:VEVENT
DTSTART;TZID=UTC+0:20170704T140000
DTEND;TZID=UTC+0:20170704T160000
DTSTAMP:20260422T080721
CREATED:20170704T060225Z
LAST-MODIFIED:20170704T060225Z
UID:10364-1499176800-1499184000@malaga-ciudad.ciudadanos-cs.org
SUMMARY:Reunión Cs (Juan Cassá)
DESCRIPTION:
URL:http://malaga-ciudad.ciudadanos-cs.org/evento/reunion-cs-juan-cassa-4/
END:VEVENT
END:VCALENDAR