BEGIN:VCALENDAR
VERSION:2.0
PRODID:-//Ciudadanos | Málaga Ciudad - ECPv4.6.7//NONSGML v1.0//EN
CALSCALE:GREGORIAN
METHOD:PUBLISH
X-WR-CALNAME:Ciudadanos | Málaga Ciudad
X-ORIGINAL-URL:http://malaga-ciudad.ciudadanos-cs.org
X-WR-CALDESC:Events for Ciudadanos | Málaga Ciudad
BEGIN:VEVENT
DTSTART;TZID=UTC+0:20171110T140000
DTEND;TZID=UTC+0:20171110T170000
DTSTAMP:20260422T084821
CREATED:20171110T083529Z
LAST-MODIFIED:20171110T083529Z
UID:12884-1510322400-1510333200@malaga-ciudad.ciudadanos-cs.org
SUMMARY:Reunión Cs Nacional (Juan Cassá)
DESCRIPTION:
URL:http://malaga-ciudad.ciudadanos-cs.org/evento/reunion-cs-nacional-juan-cassa-2/
END:VEVENT
END:VCALENDAR