BEGIN:VCALENDAR
VERSION:2.0
PRODID:-//Ciudadanos | Málaga Ciudad - ECPv4.6.7//NONSGML v1.0//EN
CALSCALE:GREGORIAN
METHOD:PUBLISH
X-WR-CALNAME:Ciudadanos | Málaga Ciudad
X-ORIGINAL-URL:http://malaga-ciudad.ciudadanos-cs.org
X-WR-CALDESC:Events for Ciudadanos | Málaga Ciudad
BEGIN:VEVENT
DTSTART;TZID=UTC+0:20170711T100000
DTEND;TZID=UTC+0:20170711T110000
DTSTAMP:20260421T104313
CREATED:20170710T172137Z
LAST-MODIFIED:20170710T172137Z
UID:10488-1499767200-1499770800@malaga-ciudad.ciudadanos-cs.org
SUMMARY:Reunión Feria (Íñigo Vallejo)
DESCRIPTION:
URL:http://malaga-ciudad.ciudadanos-cs.org/evento/reunion-feria-inigo-vallejo-2/
END:VEVENT
END:VCALENDAR