BEGIN:VCALENDAR
VERSION:2.0
PRODID:-//Ciudadanos | Málaga Ciudad - ECPv4.6.7//NONSGML v1.0//EN
CALSCALE:GREGORIAN
METHOD:PUBLISH
X-WR-CALNAME:Ciudadanos | Málaga Ciudad
X-ORIGINAL-URL:http://malaga-ciudad.ciudadanos-cs.org
X-WR-CALDESC:Events for Ciudadanos | Málaga Ciudad
BEGIN:VEVENT
DTSTART;TZID=UTC+0:20170705T110000
DTEND;TZID=UTC+0:20170705T120000
DTSTAMP:20260422T012923
CREATED:20170703T064614Z
LAST-MODIFIED:20170703T064614Z
UID:10344-1499252400-1499256000@malaga-ciudad.ciudadanos-cs.org
SUMMARY:Reunión parque (Alejandro Carballo)
DESCRIPTION:
URL:http://malaga-ciudad.ciudadanos-cs.org/evento/reunion-parque-alejandro-carballo/
END:VEVENT
END:VCALENDAR