BEGIN:VCALENDAR
VERSION:2.0
PRODID:-//Ciudadanos | Málaga Ciudad - ECPv4.6.7//NONSGML v1.0//EN
CALSCALE:GREGORIAN
METHOD:PUBLISH
X-WR-CALNAME:Ciudadanos | Málaga Ciudad
X-ORIGINAL-URL:http://malaga-ciudad.ciudadanos-cs.org
X-WR-CALDESC:Events for Ciudadanos | Málaga Ciudad
BEGIN:VEVENT
DTSTART;TZID=UTC+0:20171117T090000
DTEND;TZID=UTC+0:20171117T180000
DTSTAMP:20260424T105135
CREATED:20171115T162402Z
LAST-MODIFIED:20171115T162420Z
UID:13020-1510909200-1510941600@malaga-ciudad.ciudadanos-cs.org
SUMMARY:Reunión Cs (Alejandro Carballo)
DESCRIPTION:
URL:http://malaga-ciudad.ciudadanos-cs.org/evento/reunion-sevilla-alejandro-carballo/
END:VEVENT
END:VCALENDAR