BEGIN:VCALENDAR
VERSION:2.0
PRODID:-//Ciudadanos | Málaga Ciudad - ECPv4.6.7//NONSGML v1.0//EN
CALSCALE:GREGORIAN
METHOD:PUBLISH
X-WR-CALNAME:Ciudadanos | Málaga Ciudad
X-ORIGINAL-URL:http://malaga-ciudad.ciudadanos-cs.org
X-WR-CALDESC:Events for Ciudadanos | Málaga Ciudad
BEGIN:VEVENT
DTSTART;TZID=UTC+0:20171107T110000
DTEND;TZID=UTC+0:20171107T113000
DTSTAMP:20260423T092758
CREATED:20171106T083322Z
LAST-MODIFIED:20171106T083322Z
UID:12751-1510052400-1510054200@malaga-ciudad.ciudadanos-cs.org
SUMMARY:Reunión Tarifa Plana (Juan Cassá)
DESCRIPTION:
URL:http://malaga-ciudad.ciudadanos-cs.org/evento/reunion-tarifa-plana-juan-cassa/
END:VEVENT
END:VCALENDAR