BEGIN:VCALENDAR
VERSION:2.0
PRODID:-//Ciudadanos | Málaga Ciudad - ECPv4.6.7//NONSGML v1.0//EN
CALSCALE:GREGORIAN
METHOD:PUBLISH
X-WR-CALNAME:Ciudadanos | Málaga Ciudad
X-ORIGINAL-URL:http://malaga-ciudad.ciudadanos-cs.org
X-WR-CALDESC:Events for Ciudadanos | Málaga Ciudad
BEGIN:VEVENT
DTSTART;TZID=UTC+0:20171118T190000
DTEND;TZID=UTC+0:20171118T200000
DTSTAMP:20260424T190406
CREATED:20171115T162959Z
LAST-MODIFIED:20171115T162959Z
UID:13025-1511031600-1511035200@malaga-ciudad.ciudadanos-cs.org
SUMMARY:Taller Fundación Musical Málaga (Íñigo Vallejo)
DESCRIPTION:
URL:http://malaga-ciudad.ciudadanos-cs.org/evento/taller-fundacion-musical-malaga-inigo-vallejo/
END:VEVENT
END:VCALENDAR