BEGIN:VCALENDAR
VERSION:2.0
PRODID:-//Ciudadanos | Málaga Ciudad - ECPv4.6.7//NONSGML v1.0//EN
CALSCALE:GREGORIAN
METHOD:PUBLISH
X-WR-CALNAME:Ciudadanos | Málaga Ciudad
X-ORIGINAL-URL:http://malaga-ciudad.ciudadanos-cs.org
X-WR-CALDESC:Events for Ciudadanos | Málaga Ciudad
BEGIN:VEVENT
DTSTART;TZID=UTC+0:20170925T110000
DTEND;TZID=UTC+0:20170925T140000
DTSTAMP:20260426T034857
CREATED:20170922T084702Z
LAST-MODIFIED:20170925T103952Z
UID:11675-1506337200-1506348000@malaga-ciudad.ciudadanos-cs.org
SUMMARY:Despacho (Juan Cassá)
DESCRIPTION:
URL:http://malaga-ciudad.ciudadanos-cs.org/evento/rueda-de-prensa-juan-cassa-14/
END:VEVENT
BEGIN:VEVENT
DTSTART;TZID=UTC+0:20170925T113000
DTEND;TZID=UTC+0:20170925T133000
DTSTAMP:20260426T034857
CREATED:20170912T080952Z
LAST-MODIFIED:20170912T080952Z
UID:11465-1506339000-1506346200@malaga-ciudad.ciudadanos-cs.org
SUMMARY:Comisión Derechos Sociales (Alejandro Carballo)
DESCRIPTION:
URL:http://malaga-ciudad.ciudadanos-cs.org/evento/comision-derechos-sociales-alejandro-carballo-5/
END:VEVENT
BEGIN:VEVENT
DTSTART;TZID=UTC+0:20170925T120000
DTEND;TZID=UTC+0:20170925T130000
DTSTAMP:20260426T034857
CREATED:20170925T114047Z
LAST-MODIFIED:20170925T114047Z
UID:11726-1506340800-1506344400@malaga-ciudad.ciudadanos-cs.org
SUMMARY:Reunión agenda (Juan Cassá)
DESCRIPTION:
URL:http://malaga-ciudad.ciudadanos-cs.org/evento/reunion-agenda-juan-cassa-4/
END:VEVENT
BEGIN:VEVENT
DTSTART;TZID=UTC+0:20170925T140000
DTEND;TZID=UTC+0:20170925T170000
DTSTAMP:20260426T034857
CREATED:20170925T104102Z
LAST-MODIFIED:20170925T104102Z
UID:11708-1506348000-1506358800@malaga-ciudad.ciudadanos-cs.org
SUMMARY:Reunión organización Cs (Juan Cassá)
DESCRIPTION:
URL:http://malaga-ciudad.ciudadanos-cs.org/evento/reunion-organizacion-cs-juan-cassa-2/
END:VEVENT
BEGIN:VEVENT
DTSTART;TZID=UTC+0:20170925T143000
DTEND;TZID=UTC+0:20170925T150000
DTSTAMP:20260426T034857
CREATED:20170922T085035Z
LAST-MODIFIED:20170922T085035Z
UID:11681-1506349800-1506351600@malaga-ciudad.ciudadanos-cs.org
SUMMARY:Junta portavoces (Alejandro Carballo)
DESCRIPTION:
URL:http://malaga-ciudad.ciudadanos-cs.org/evento/junta-portavoces-alejandro-carballo-21/
END:VEVENT
BEGIN:VEVENT
DTSTART;TZID=UTC+0:20170925T163000
DTEND;TZID=UTC+0:20170925T183000
DTSTAMP:20260426T034857
CREATED:20170912T080910Z
LAST-MODIFIED:20170922T085904Z
UID:11463-1506357000-1506364200@malaga-ciudad.ciudadanos-cs.org
SUMMARY:Comisión Economía (Alejandro Carballo)
DESCRIPTION:
URL:http://malaga-ciudad.ciudadanos-cs.org/evento/comision-economia-alejandro-carballo-10/
END:VEVENT
BEGIN:VEVENT
DTSTART;TZID=UTC+0:20170925T170000
DTEND;TZID=UTC+0:20170925T190000
DTSTAMP:20260426T034857
CREATED:20170922T084742Z
LAST-MODIFIED:20170922T084742Z
UID:11677-1506358800-1506366000@malaga-ciudad.ciudadanos-cs.org
SUMMARY:Debate Cadena COPE (Juan Cassá)
DESCRIPTION:
URL:http://malaga-ciudad.ciudadanos-cs.org/evento/debate-cadena-cope-juan-cassa-3/
END:VEVENT
BEGIN:VEVENT
DTSTART;TZID=UTC+0:20170925T190000
DTEND;TZID=UTC+0:20170925T200000
DTSTAMP:20260426T034857
CREATED:20170925T104240Z
LAST-MODIFIED:20170925T104240Z
UID:11710-1506366000-1506369600@malaga-ciudad.ciudadanos-cs.org
SUMMARY:Reunión cofradía Expiración (Juan Cassá)
DESCRIPTION:
URL:http://malaga-ciudad.ciudadanos-cs.org/evento/reunion-cofradia-expiracion-juan-cassa/
END:VEVENT
END:VCALENDAR