BEGIN:VCALENDAR
VERSION:2.0
PRODID:-//Ciudadanos | Málaga Ciudad - ECPv4.6.7//NONSGML v1.0//EN
CALSCALE:GREGORIAN
METHOD:PUBLISH
X-WR-CALNAME:Ciudadanos | Málaga Ciudad
X-ORIGINAL-URL:http://malaga-ciudad.ciudadanos-cs.org
X-WR-CALDESC:Events for Ciudadanos | Málaga Ciudad
BEGIN:VEVENT
DTSTART;TZID=UTC+0:20170926T090000
DTEND;TZID=UTC+0:20170926T120000
DTSTAMP:20260426T034242
CREATED:20170925T104343Z
LAST-MODIFIED:20170925T104343Z
UID:11712-1506416400-1506427200@malaga-ciudad.ciudadanos-cs.org
SUMMARY:Jornada Hotel del Puerto (Alejandro Carballo)
DESCRIPTION:
URL:http://malaga-ciudad.ciudadanos-cs.org/evento/jornada-hotel-del-puerto-alejandro-carballo/
END:VEVENT
BEGIN:VEVENT
DTSTART;TZID=UTC+0:20170926T100000
DTEND;TZID=UTC+0:20170926T110000
DTSTAMP:20260426T034242
CREATED:20170925T114412Z
LAST-MODIFIED:20170925T114412Z
UID:11728-1506420000-1506423600@malaga-ciudad.ciudadanos-cs.org
SUMMARY:Rueda de prensa (Juan Cassá)
DESCRIPTION:
URL:http://malaga-ciudad.ciudadanos-cs.org/evento/rueda-de-prensa-juan-cassa-15/
END:VEVENT
BEGIN:VEVENT
DTSTART;TZID=UTC+0:20170926T110000
DTEND;TZID=UTC+0:20170926T120000
DTSTAMP:20260426T034242
CREATED:20170929T084934Z
LAST-MODIFIED:20170929T084934Z
UID:11852-1506423600-1506427200@malaga-ciudad.ciudadanos-cs.org
SUMMARY:Despacho (Juan Cassá)
DESCRIPTION:
URL:http://malaga-ciudad.ciudadanos-cs.org/evento/despacho-juan-cassa-8/
END:VEVENT
BEGIN:VEVENT
DTSTART;TZID=UTC+0:20170926T113000
DTEND;TZID=UTC+0:20170926T123000
DTSTAMP:20260426T034242
CREATED:20170925T104431Z
LAST-MODIFIED:20170925T104431Z
UID:11714-1506425400-1506429000@malaga-ciudad.ciudadanos-cs.org
SUMMARY:Reunión distrito Churriana (Alejandro Carballo)
DESCRIPTION:
URL:http://malaga-ciudad.ciudadanos-cs.org/evento/reunion-distrito-churriana-alejandro-carballo/
END:VEVENT
BEGIN:VEVENT
DTSTART;TZID=UTC+0:20170926T120000
DTEND;TZID=UTC+0:20170926T140000
DTSTAMP:20260426T034242
CREATED:20170925T114450Z
LAST-MODIFIED:20170929T084858Z
UID:11731-1506427200-1506434400@malaga-ciudad.ciudadanos-cs.org
SUMMARY:Reunión ciudadano (Juan Cassá)
DESCRIPTION:
URL:http://malaga-ciudad.ciudadanos-cs.org/evento/reunion-economia-juan-cassa-7/
END:VEVENT
BEGIN:VEVENT
DTSTART;TZID=UTC+0:20170926T123000
DTEND;TZID=UTC+0:20170926T133000
DTSTAMP:20260426T034242
CREATED:20170925T104517Z
LAST-MODIFIED:20170925T104517Z
UID:11716-1506429000-1506432600@malaga-ciudad.ciudadanos-cs.org
SUMMARY:Reunión Accesibilidad (Alejandro Carballo)
DESCRIPTION:
URL:http://malaga-ciudad.ciudadanos-cs.org/evento/reunion-accesibilidad-alejandro-carballo/
END:VEVENT
BEGIN:VEVENT
DTSTART;TZID=UTC+0:20170926T140000
DTEND;TZID=UTC+0:20170926T150000
DTSTAMP:20260426T034242
CREATED:20170926T103429Z
LAST-MODIFIED:20170926T103429Z
UID:11795-1506434400-1506438000@malaga-ciudad.ciudadanos-cs.org
SUMMARY:Junta portavoces (Alejandro Carballo)
DESCRIPTION:
URL:http://malaga-ciudad.ciudadanos-cs.org/evento/junta-portavoces-alejandro-carballo-22/
END:VEVENT
BEGIN:VEVENT
DTSTART;TZID=UTC+0:20170926T170000
DTEND;TZID=UTC+0:20170926T190000
DTSTAMP:20260426T034242
CREATED:20170925T104604Z
LAST-MODIFIED:20170925T104604Z
UID:11718-1506445200-1506452400@malaga-ciudad.ciudadanos-cs.org
SUMMARY:Consejo Escolar Málaga (Alejandro Carballo)
DESCRIPTION:
URL:http://malaga-ciudad.ciudadanos-cs.org/evento/consejo-escolar-malaga-alejandro-carballo/
END:VEVENT
END:VCALENDAR