BEGIN:VCALENDAR
VERSION:2.0
PRODID:-//Ciudadanos | Málaga Ciudad - ECPv4.6.7//NONSGML v1.0//EN
CALSCALE:GREGORIAN
METHOD:PUBLISH
X-WR-CALNAME:Ciudadanos | Málaga Ciudad
X-ORIGINAL-URL:http://malaga-ciudad.ciudadanos-cs.org
X-WR-CALDESC:Events for Ciudadanos | Málaga Ciudad
BEGIN:VEVENT
DTSTART;TZID=UTC+0:20171002T100000
DTEND;TZID=UTC+0:20171002T110000
DTSTAMP:20260426T033957
CREATED:20170929T085735Z
LAST-MODIFIED:20170929T085735Z
UID:11860-1506938400-1506942000@malaga-ciudad.ciudadanos-cs.org
SUMMARY:Rueda de prensa (Juan Cassá)
DESCRIPTION:
URL:http://malaga-ciudad.ciudadanos-cs.org/evento/rueda-de-prensa-juan-cassa-17/
END:VEVENT
BEGIN:VEVENT
DTSTART;TZID=UTC+0:20171002T110000
DTEND;TZID=UTC+0:20171002T130000
DTSTAMP:20260426T033957
CREATED:20170929T085822Z
LAST-MODIFIED:20171002T103158Z
UID:11862-1506942000-1506949200@malaga-ciudad.ciudadanos-cs.org
SUMMARY:Despacho (Juan Cassá)
DESCRIPTION:
URL:http://malaga-ciudad.ciudadanos-cs.org/evento/reunion-economia-juan-cassa-8/
END:VEVENT
BEGIN:VEVENT
DTSTART;TZID=UTC+0:20171002T110000
DTEND;TZID=UTC+0:20171002T120000
DTSTAMP:20260426T033957
CREATED:20171002T103010Z
LAST-MODIFIED:20171002T103010Z
UID:11904-1506942000-1506945600@malaga-ciudad.ciudadanos-cs.org
SUMMARY:Reunión Repsol (Alejandro Carballo)
DESCRIPTION:
URL:http://malaga-ciudad.ciudadanos-cs.org/evento/reunion-repsol-alejandro-carballo/
END:VEVENT
BEGIN:VEVENT
DTSTART;TZID=UTC+0:20171002T130000
DTEND;TZID=UTC+0:20171002T140000
DTSTAMP:20260426T033957
CREATED:20171002T105406Z
LAST-MODIFIED:20171002T105406Z
UID:11910-1506949200-1506952800@malaga-ciudad.ciudadanos-cs.org
SUMMARY:Reunión Economía (Juan Cassá)
DESCRIPTION:
URL:http://malaga-ciudad.ciudadanos-cs.org/evento/reunion-economia-juan-cassa-9/
END:VEVENT
BEGIN:VEVENT
DTSTART;TZID=UTC+0:20171002T140000
DTEND;TZID=UTC+0:20171002T170000
DTSTAMP:20260426T033957
CREATED:20170929T085850Z
LAST-MODIFIED:20170929T085850Z
UID:11864-1506952800-1506963600@malaga-ciudad.ciudadanos-cs.org
SUMMARY:Reunión portavoz PP (Juan Cassá)
DESCRIPTION:
URL:http://malaga-ciudad.ciudadanos-cs.org/evento/reunion-portavoz-pp-juan-cassa-4/
END:VEVENT
BEGIN:VEVENT
DTSTART;TZID=UTC+0:20171002T140000
DTEND;TZID=UTC+0:20171002T170000
DTSTAMP:20260426T033957
CREATED:20170929T085919Z
LAST-MODIFIED:20170929T085919Z
UID:11866-1506952800-1506963600@malaga-ciudad.ciudadanos-cs.org
SUMMARY:Debate Cadena COPE (Juan Cassá)
DESCRIPTION:
URL:http://malaga-ciudad.ciudadanos-cs.org/evento/debate-cadena-cope-juan-cassa-4/
END:VEVENT
BEGIN:VEVENT
DTSTART;TZID=UTC+0:20171002T160000
DTEND;TZID=UTC+0:20171002T180000
DTSTAMP:20260426T033957
CREATED:20170929T175832Z
LAST-MODIFIED:20170929T175832Z
UID:11869-1506960000-1506967200@malaga-ciudad.ciudadanos-cs.org
SUMMARY:Programa deporte Onda Azul (Íñigo Vallejo)
DESCRIPTION:
URL:http://malaga-ciudad.ciudadanos-cs.org/evento/programa-deporte-onda-azul-inigo-vallejo-2/
END:VEVENT
BEGIN:VEVENT
DTSTART;TZID=UTC+0:20171002T180000
DTEND;TZID=UTC+0:20171002T200000
DTSTAMP:20260426T033957
CREATED:20171002T103101Z
LAST-MODIFIED:20171002T103101Z
UID:11906-1506967200-1506974400@malaga-ciudad.ciudadanos-cs.org
SUMMARY:Consejo Territorial Cruz Humilladero (Alejandro Carballo)
DESCRIPTION:
URL:http://malaga-ciudad.ciudadanos-cs.org/evento/consejo-territorial-cruz-humilladero-alejandro-carballo/
END:VEVENT
END:VCALENDAR