BEGIN:VCALENDAR
VERSION:2.0
PRODID:-//Ciudadanos | Málaga Ciudad - ECPv4.6.7//NONSGML v1.0//EN
CALSCALE:GREGORIAN
METHOD:PUBLISH
X-WR-CALNAME:Ciudadanos | Málaga Ciudad
X-ORIGINAL-URL:http://malaga-ciudad.ciudadanos-cs.org
X-WR-CALDESC:Events for Ciudadanos | Málaga Ciudad
BEGIN:VEVENT
DTSTART;TZID=UTC+0:20171006T100000
DTEND;TZID=UTC+0:20171006T110000
DTSTAMP:20260426T033956
CREATED:20171005T093134Z
LAST-MODIFIED:20171005T094036Z
UID:11989-1507284000-1507287600@malaga-ciudad.ciudadanos-cs.org
SUMMARY:Reunión organización (Juan Cassá)
DESCRIPTION:
URL:http://malaga-ciudad.ciudadanos-cs.org/evento/reunion-organizacion-juan-cassa-7/
END:VEVENT
BEGIN:VEVENT
DTSTART;TZID=UTC+0:20171006T103000
DTEND;TZID=UTC+0:20171006T120000
DTSTAMP:20260426T033956
CREATED:20171005T094132Z
LAST-MODIFIED:20171005T094132Z
UID:11991-1507285800-1507291200@malaga-ciudad.ciudadanos-cs.org
SUMMARY:Reunión Cultura (Alejandro Carballo)
DESCRIPTION:
URL:http://malaga-ciudad.ciudadanos-cs.org/evento/reunion-cultura-alejandro-carballo-3/
END:VEVENT
BEGIN:VEVENT
DTSTART;TZID=UTC+0:20171006T120000
DTEND;TZID=UTC+0:20171006T130000
DTSTAMP:20260426T033956
CREATED:20171004T082545Z
LAST-MODIFIED:20171004T082545Z
UID:11953-1507291200-1507294800@malaga-ciudad.ciudadanos-cs.org
SUMMARY:Debate Cadena SER (Juan Cassá)
DESCRIPTION:
URL:http://malaga-ciudad.ciudadanos-cs.org/evento/debate-cadena-ser-juan-cassa-29/
END:VEVENT
BEGIN:VEVENT
DTSTART;TZID=UTC+0:20171006T120000
DTEND;TZID=UTC+0:20171006T130000
DTSTAMP:20260426T033956
CREATED:20171005T094300Z
LAST-MODIFIED:20171005T094300Z
UID:11993-1507291200-1507294800@malaga-ciudad.ciudadanos-cs.org
SUMMARY:Concentración Policía Local (Alejandro Carballo)
DESCRIPTION:
URL:http://malaga-ciudad.ciudadanos-cs.org/evento/concentracion-policia-local-alejandro-carballo/
END:VEVENT
BEGIN:VEVENT
DTSTART;TZID=UTC+0:20171006T173000
DTEND;TZID=UTC+0:20171006T183000
DTSTAMP:20260426T033956
CREATED:20171004T082620Z
LAST-MODIFIED:20171004T082620Z
UID:11955-1507311000-1507314600@malaga-ciudad.ciudadanos-cs.org
SUMMARY:Carpa Agrupación Noroeste Cs (Juan Cassá)
DESCRIPTION:
URL:http://malaga-ciudad.ciudadanos-cs.org/evento/carpa-agrupacion-noroeste-cs-juan-cassa/
END:VEVENT
BEGIN:VEVENT
DTSTART;TZID=UTC+0:20171006T183000
DTEND;TZID=UTC+0:20171006T203000
DTSTAMP:20260426T033956
CREATED:20171004T082648Z
LAST-MODIFIED:20171004T082648Z
UID:11957-1507314600-1507321800@malaga-ciudad.ciudadanos-cs.org
SUMMARY:Debate 101 TV (Juan Cassá)
DESCRIPTION:
URL:http://malaga-ciudad.ciudadanos-cs.org/evento/debate-101-tv-juan-cassa-6/
END:VEVENT
END:VCALENDAR