BEGIN:VCALENDAR
VERSION:2.0
PRODID:-//Ciudadanos | Málaga Ciudad - ECPv4.6.7//NONSGML v1.0//EN
CALSCALE:GREGORIAN
METHOD:PUBLISH
X-WR-CALNAME:Ciudadanos | Málaga Ciudad
X-ORIGINAL-URL:http://malaga-ciudad.ciudadanos-cs.org
X-WR-CALDESC:Events for Ciudadanos | Málaga Ciudad
BEGIN:VEVENT
DTSTART;TZID=UTC+0:20171009T100000
DTEND;TZID=UTC+0:20171009T110000
DTSTAMP:20260426T034242
CREATED:20171005T092800Z
LAST-MODIFIED:20171005T092800Z
UID:11985-1507543200-1507546800@malaga-ciudad.ciudadanos-cs.org
SUMMARY:Rueda de prensa (Juan Cassá)
DESCRIPTION:
URL:http://malaga-ciudad.ciudadanos-cs.org/evento/rueda-de-prensa-juan-cassa-19/
END:VEVENT
BEGIN:VEVENT
DTSTART;TZID=UTC+0:20171009T103000
DTEND;TZID=UTC+0:20171009T113000
DTSTAMP:20260426T034242
CREATED:20171009T053311Z
LAST-MODIFIED:20171009T053311Z
UID:12057-1507545000-1507548600@malaga-ciudad.ciudadanos-cs.org
SUMMARY:Reunión CSIF (Alejandro Carballo)
DESCRIPTION:
URL:http://malaga-ciudad.ciudadanos-cs.org/evento/reunion-csif-alejandro-carballo/
END:VEVENT
BEGIN:VEVENT
DTSTART;TZID=UTC+0:20171009T113000
DTEND;TZID=UTC+0:20171009T130000
DTSTAMP:20260426T034242
CREATED:20171004T083659Z
LAST-MODIFIED:20171004T083659Z
UID:11969-1507548600-1507554000@malaga-ciudad.ciudadanos-cs.org
SUMMARY:Reunión Amares (Juan Cassá)
DESCRIPTION:
URL:http://malaga-ciudad.ciudadanos-cs.org/evento/reunion-amares-juan-cassa/
END:VEVENT
BEGIN:VEVENT
DTSTART;TZID=UTC+0:20171009T123000
DTEND;TZID=UTC+0:20171009T133000
DTSTAMP:20260426T034242
CREATED:20171004T083630Z
LAST-MODIFIED:20171005T092716Z
UID:11967-1507552200-1507555800@malaga-ciudad.ciudadanos-cs.org
SUMMARY:Reunión Cs Mijas (Juan Cassá)
DESCRIPTION:
URL:http://malaga-ciudad.ciudadanos-cs.org/evento/reunion-cs-mijas-juan-cassa/
END:VEVENT
BEGIN:VEVENT
DTSTART;TZID=UTC+0:20171009T170000
DTEND;TZID=UTC+0:20171009T190000
DTSTAMP:20260426T034242
CREATED:20171004T083731Z
LAST-MODIFIED:20171004T083731Z
UID:11971-1507568400-1507575600@malaga-ciudad.ciudadanos-cs.org
SUMMARY:Debate Cadena COPE (Juan Cassá)
DESCRIPTION:
URL:http://malaga-ciudad.ciudadanos-cs.org/evento/debate-cadena-cope-juan-cassa-5/
END:VEVENT
BEGIN:VEVENT
DTSTART;TZID=UTC+0:20171009T190000
DTEND;TZID=UTC+0:20171009T230000
DTSTAMP:20260426T034242
CREATED:20171005T092915Z
LAST-MODIFIED:20171005T092915Z
UID:11987-1507575600-1507590000@malaga-ciudad.ciudadanos-cs.org
SUMMARY:Reunión Comunicación (Juan Cassá)
DESCRIPTION:
URL:http://malaga-ciudad.ciudadanos-cs.org/evento/reunion-comunicacion-juan-cassa-2/
END:VEVENT
END:VCALENDAR