BEGIN:VCALENDAR
VERSION:2.0
PRODID:-//Ciudadanos | Málaga Ciudad - ECPv4.6.7//NONSGML v1.0//EN
CALSCALE:GREGORIAN
METHOD:PUBLISH
X-WR-CALNAME:Ciudadanos | Málaga Ciudad
X-ORIGINAL-URL:http://malaga-ciudad.ciudadanos-cs.org
X-WR-CALDESC:Events for Ciudadanos | Málaga Ciudad
BEGIN:VEVENT
DTSTART;TZID=UTC+0:20171013T100000
DTEND;TZID=UTC+0:20171013T110000
DTSTAMP:20260426T034156
CREATED:20171010T115734Z
LAST-MODIFIED:20171010T115734Z
UID:12116-1507888800-1507892400@malaga-ciudad.ciudadanos-cs.org
SUMMARY:Rueda de prensa (Alejandro Carballo)
DESCRIPTION:
URL:http://malaga-ciudad.ciudadanos-cs.org/evento/rueda-de-prensa-alejandro-carballo-2/
END:VEVENT
BEGIN:VEVENT
DTSTART;TZID=UTC+0:20171013T113000
DTEND;TZID=UTC+0:20171013T120000
DTSTAMP:20260426T034156
CREATED:20171010T115820Z
LAST-MODIFIED:20171010T121925Z
UID:12118-1507894200-1507896000@malaga-ciudad.ciudadanos-cs.org
SUMMARY:Lectura manifiesto Amare (Alejandro Carballo)
DESCRIPTION:
URL:http://malaga-ciudad.ciudadanos-cs.org/evento/lectura-manifiesto-amares-alejandro-carballo/
END:VEVENT
BEGIN:VEVENT
DTSTART;TZID=UTC+0:20171013T120000
DTEND;TZID=UTC+0:20171013T130000
DTSTAMP:20260426T034156
CREATED:20171010T115858Z
LAST-MODIFIED:20171010T115858Z
UID:12120-1507896000-1507899600@malaga-ciudad.ciudadanos-cs.org
SUMMARY:Tertulia Cadena SER (Alejandro Carballo)
DESCRIPTION:
URL:http://malaga-ciudad.ciudadanos-cs.org/evento/tertulia-cadena-ser-alejandro-carballo-2/
END:VEVENT
BEGIN:VEVENT
DTSTART;TZID=UTC+0:20171013T170000
DTEND;TZID=UTC+0:20171013T180000
DTSTAMP:20260426T034156
CREATED:20171010T120209Z
LAST-MODIFIED:20171010T120209Z
UID:12126-1507914000-1507917600@malaga-ciudad.ciudadanos-cs.org
SUMMARY:Reunión cofradía Miraflores (Íñigo Vallejo)
DESCRIPTION:
URL:http://malaga-ciudad.ciudadanos-cs.org/evento/reunion-cofradia-miraflores-inigo-vallejo/
END:VEVENT
BEGIN:VEVENT
DTSTART;TZID=UTC+0:20171013T180000
DTEND;TZID=UTC+0:20171013T190000
DTSTAMP:20260426T034156
CREATED:20171010T114814Z
LAST-MODIFIED:20171010T114814Z
UID:12114-1507917600-1507921200@malaga-ciudad.ciudadanos-cs.org
SUMMARY:Reunión Crucifixión (Íñigo Vallejo)
DESCRIPTION:
URL:http://malaga-ciudad.ciudadanos-cs.org/evento/reunion-crucifixion-inigo-vallejo/
END:VEVENT
BEGIN:VEVENT
DTSTART;TZID=UTC+0:20171013T183000
DTEND;TZID=UTC+0:20171013T210000
DTSTAMP:20260426T034156
CREATED:20171010T115957Z
LAST-MODIFIED:20171010T115957Z
UID:12122-1507919400-1507928400@malaga-ciudad.ciudadanos-cs.org
SUMMARY:Debate 101 TV (Alejandro Carballo)
DESCRIPTION:
URL:http://malaga-ciudad.ciudadanos-cs.org/evento/debate-101-tv-alejandro-carballo-7/
END:VEVENT
BEGIN:VEVENT
DTSTART;TZID=UTC+0:20171013T193000
DTEND;TZID=UTC+0:20171013T203000
DTSTAMP:20260426T034156
CREATED:20171010T120043Z
LAST-MODIFIED:20171010T120043Z
UID:12124-1507923000-1507926600@malaga-ciudad.ciudadanos-cs.org
SUMMARY:Premios Victoria (Íñigo Vallejo)
DESCRIPTION:
URL:http://malaga-ciudad.ciudadanos-cs.org/evento/premios-victoria-inigo-vallejo/
END:VEVENT
END:VCALENDAR