BEGIN:VCALENDAR
VERSION:2.0
PRODID:-//Ciudadanos | Málaga Ciudad - ECPv4.6.7//NONSGML v1.0//EN
CALSCALE:GREGORIAN
METHOD:PUBLISH
X-WR-CALNAME:Ciudadanos | Málaga Ciudad
X-ORIGINAL-URL:http://malaga-ciudad.ciudadanos-cs.org
X-WR-CALDESC:Events for Ciudadanos | Málaga Ciudad
BEGIN:VEVENT
DTSTART;TZID=UTC+0:20171020T100000
DTEND;TZID=UTC+0:20171020T110000
DTSTAMP:20260426T034027
CREATED:20171019T094406Z
LAST-MODIFIED:20171019T094406Z
UID:12339-1508493600-1508497200@malaga-ciudad.ciudadanos-cs.org
SUMMARY:Entrevista La Opinión (Juan Cassá)
DESCRIPTION:
URL:http://malaga-ciudad.ciudadanos-cs.org/evento/entrevista-la-opinion-juan-cassa-4/
END:VEVENT
BEGIN:VEVENT
DTSTART;TZID=UTC+0:20171020T110000
DTEND;TZID=UTC+0:20171020T120000
DTSTAMP:20260426T034027
CREATED:20171020T062326Z
LAST-MODIFIED:20171020T062326Z
UID:12355-1508497200-1508500800@malaga-ciudad.ciudadanos-cs.org
SUMMARY:Reunión vecinos Barcenillas (Alejandro Carballo)
DESCRIPTION:
URL:http://malaga-ciudad.ciudadanos-cs.org/evento/reunion-vecinos-barcenillas-alejandro-carballo/
END:VEVENT
BEGIN:VEVENT
DTSTART;TZID=UTC+0:20171020T120000
DTEND;TZID=UTC+0:20171020T130000
DTSTAMP:20260426T034027
CREATED:20171018T075821Z
LAST-MODIFIED:20171018T075821Z
UID:12299-1508500800-1508504400@malaga-ciudad.ciudadanos-cs.org
SUMMARY:Debate Cadena SER (Juan Cassá)
DESCRIPTION:
URL:http://malaga-ciudad.ciudadanos-cs.org/evento/debate-cadena-ser-juan-cassa-30/
END:VEVENT
BEGIN:VEVENT
DTSTART;TZID=UTC+0:20171020T130000
DTEND;TZID=UTC+0:20171020T140000
DTSTAMP:20260426T034027
CREATED:20171018T080253Z
LAST-MODIFIED:20171018T080253Z
UID:12309-1508504400-1508508000@malaga-ciudad.ciudadanos-cs.org
SUMMARY:Reunión CAC (Alejandro Carballo)
DESCRIPTION:
URL:http://malaga-ciudad.ciudadanos-cs.org/evento/reunion-cac-alejandro-carballo/
END:VEVENT
BEGIN:VEVENT
DTSTART;TZID=UTC+0:20171020T133000
DTEND;TZID=UTC+0:20171020T153000
DTSTAMP:20260426T034027
CREATED:20171018T075933Z
LAST-MODIFIED:20171018T075933Z
UID:12301-1508506200-1508513400@malaga-ciudad.ciudadanos-cs.org
SUMMARY:Almuerzo audivisual (Juan Cassá)
DESCRIPTION:
URL:http://malaga-ciudad.ciudadanos-cs.org/evento/almuerzo-audivisual-juan-cassa-3/
END:VEVENT
BEGIN:VEVENT
DTSTART;TZID=UTC+0:20171020T160000
DTEND;TZID=UTC+0:20171020T180000
DTSTAMP:20260426T034027
CREATED:20171017T103634Z
LAST-MODIFIED:20171018T074626Z
UID:12279-1508515200-1508522400@malaga-ciudad.ciudadanos-cs.org
SUMMARY:Debate 101 TV (Juan Cassá)
DESCRIPTION:
URL:http://malaga-ciudad.ciudadanos-cs.org/evento/debate-101-tv-juan-cassa-8/
END:VEVENT
BEGIN:VEVENT
DTSTART;TZID=UTC+0:20171020T190000
DTEND;TZID=UTC+0:20171020T200000
DTSTAMP:20260426T034027
CREATED:20171018T080039Z
LAST-MODIFIED:20171018T080039Z
UID:12305-1508526000-1508529600@malaga-ciudad.ciudadanos-cs.org
SUMMARY:Carpa Agrupación Cs Málaga Noroeste (Juan Cassá)
DESCRIPTION:
URL:http://malaga-ciudad.ciudadanos-cs.org/evento/carpa-agrupacion-cs-malaga-noroeste-juan-cassa/
END:VEVENT
BEGIN:VEVENT
DTSTART;TZID=UTC+0:20171020T200000
DTEND;TZID=UTC+0:20171020T220000
DTSTAMP:20260426T034027
CREATED:20171018T080113Z
LAST-MODIFIED:20171018T080113Z
UID:12307-1508529600-1508536800@malaga-ciudad.ciudadanos-cs.org
SUMMARY:Premios La Opinión (Juan Cassá)
DESCRIPTION:
URL:http://malaga-ciudad.ciudadanos-cs.org/evento/premios-la-opinion-juan-cassa-2/
END:VEVENT
END:VCALENDAR