BEGIN:VCALENDAR
VERSION:2.0
PRODID:-//Ciudadanos | Málaga Ciudad - ECPv4.6.7//NONSGML v1.0//EN
CALSCALE:GREGORIAN
METHOD:PUBLISH
X-WR-CALNAME:Ciudadanos | Málaga Ciudad
X-ORIGINAL-URL:http://malaga-ciudad.ciudadanos-cs.org
X-WR-CALDESC:Events for Ciudadanos | Málaga Ciudad
BEGIN:VEVENT
DTSTART;TZID=UTC+0:20171023T093000
DTEND;TZID=UTC+0:20171023T230000
DTSTAMP:20260426T034124
CREATED:20171020T150116Z
LAST-MODIFIED:20171020T150116Z
UID:12373-1508751000-1508799600@malaga-ciudad.ciudadanos-cs.org
SUMMARY:Comisión Economía (Alejandro Carballo)
DESCRIPTION:
URL:http://malaga-ciudad.ciudadanos-cs.org/evento/comision-economia-alejandro-carballo-11/
END:VEVENT
BEGIN:VEVENT
DTSTART;TZID=UTC+0:20171023T100000
DTEND;TZID=UTC+0:20171023T110000
DTSTAMP:20260426T034124
CREATED:20171020T092143Z
LAST-MODIFIED:20171020T092143Z
UID:12365-1508752800-1508756400@malaga-ciudad.ciudadanos-cs.org
SUMMARY:Reunión Movilidad (Juan Cassá)
DESCRIPTION:
URL:http://malaga-ciudad.ciudadanos-cs.org/evento/reunion-movilidad-juan-cassa-6/
END:VEVENT
BEGIN:VEVENT
DTSTART;TZID=UTC+0:20171023T113000
DTEND;TZID=UTC+0:20171023T130000
DTSTAMP:20260426T034124
CREATED:20171020T150217Z
LAST-MODIFIED:20171020T150217Z
UID:12375-1508758200-1508763600@malaga-ciudad.ciudadanos-cs.org
SUMMARY:Comisión Derechos Sociales (Alejandro Carballo)
DESCRIPTION:
URL:http://malaga-ciudad.ciudadanos-cs.org/evento/comision-derechos-sociales-alejandro-carballo-6/
END:VEVENT
BEGIN:VEVENT
DTSTART;TZID=UTC+0:20171023T120000
DTEND;TZID=UTC+0:20171023T130000
DTSTAMP:20260426T034124
CREATED:20171018T093320Z
LAST-MODIFIED:20171018T093320Z
UID:12330-1508760000-1508763600@malaga-ciudad.ciudadanos-cs.org
SUMMARY:Reunión Agrupación Bandas Música (Juan Cassá)
DESCRIPTION:
URL:http://malaga-ciudad.ciudadanos-cs.org/evento/reunion-agrupacion-bandas-musica-juan-cassa/
END:VEVENT
BEGIN:VEVENT
DTSTART;TZID=UTC+0:20171023T170000
DTEND;TZID=UTC+0:20171023T190000
DTSTAMP:20260426T034124
CREATED:20171018T081811Z
LAST-MODIFIED:20171018T081811Z
UID:12315-1508778000-1508785200@malaga-ciudad.ciudadanos-cs.org
SUMMARY:Debate Cadena COPE (Juan Cassá)
DESCRIPTION:
URL:http://malaga-ciudad.ciudadanos-cs.org/evento/debate-cadena-cope-juan-cassa-7/
END:VEVENT
BEGIN:VEVENT
DTSTART;TZID=UTC+0:20171023T193000
DTEND;TZID=UTC+0:20171023T203000
DTSTAMP:20260426T034124
CREATED:20171018T081917Z
LAST-MODIFIED:20171018T081939Z
UID:12317-1508787000-1508790600@malaga-ciudad.ciudadanos-cs.org
SUMMARY:Café Ciudadano Agrupación Cs Noroeste (Juan Cassá)
DESCRIPTION:
URL:http://malaga-ciudad.ciudadanos-cs.org/evento/cafe-ciudadano-agrupacion-cs-noroeste-juan-cassa/
END:VEVENT
END:VCALENDAR