BEGIN:VCALENDAR
VERSION:2.0
PRODID:-//Ciudadanos | Málaga Ciudad - ECPv4.6.7//NONSGML v1.0//EN
CALSCALE:GREGORIAN
METHOD:PUBLISH
X-WR-CALNAME:Ciudadanos | Málaga Ciudad
X-ORIGINAL-URL:http://malaga-ciudad.ciudadanos-cs.org
X-WR-CALDESC:Events for Ciudadanos | Málaga Ciudad
BEGIN:VEVENT
DTSTART;TZID=UTC+0:20171024T090000
DTEND;TZID=UTC+0:20171024T120000
DTSTAMP:20260426T034125
CREATED:20171023T095036Z
LAST-MODIFIED:20171023T095036Z
UID:12423-1508835600-1508846400@malaga-ciudad.ciudadanos-cs.org
SUMMARY:Consejo Rector Casa Natal Picasso (Alejandro Carballo)
DESCRIPTION:
URL:http://malaga-ciudad.ciudadanos-cs.org/evento/consejo-rector-casa-natal-picasso-alejandro-carballo-3/
END:VEVENT
BEGIN:VEVENT
DTSTART;TZID=UTC+0:20171024T110000
DTEND;TZID=UTC+0:20171024T120000
DTSTAMP:20260426T034125
CREATED:20171023T094431Z
LAST-MODIFIED:20171023T094431Z
UID:12414-1508842800-1508846400@malaga-ciudad.ciudadanos-cs.org
SUMMARY:Reunión agenda (Juan Cassá)
DESCRIPTION:
URL:http://malaga-ciudad.ciudadanos-cs.org/evento/reunion-agenda-juan-cassa-8/
END:VEVENT
BEGIN:VEVENT
DTSTART;TZID=UTC+0:20171024T120000
DTEND;TZID=UTC+0:20171024T123000
DTSTAMP:20260426T034125
CREATED:20171023T095137Z
LAST-MODIFIED:20171024T102715Z
UID:12425-1508846400-1508848200@malaga-ciudad.ciudadanos-cs.org
SUMMARY:Manifiesto contra Polio (Juan Cassá)
DESCRIPTION:
URL:http://malaga-ciudad.ciudadanos-cs.org/evento/manifiesto-contra-polio-alejandro-carballo/
END:VEVENT
BEGIN:VEVENT
DTSTART;TZID=UTC+0:20171024T120000
DTEND;TZID=UTC+0:20171024T140000
DTSTAMP:20260426T034125
CREATED:20171023T095232Z
LAST-MODIFIED:20171023T095232Z
UID:12427-1508846400-1508853600@malaga-ciudad.ciudadanos-cs.org
SUMMARY:Reunión CAC (Alejandro Carballo)
DESCRIPTION:
URL:http://malaga-ciudad.ciudadanos-cs.org/evento/reunion-cac-alejandro-carballo-2/
END:VEVENT
BEGIN:VEVENT
DTSTART;TZID=UTC+0:20171024T130000
DTEND;TZID=UTC+0:20171024T140000
DTSTAMP:20260426T034125
CREATED:20171023T094819Z
LAST-MODIFIED:20171023T094819Z
UID:12419-1508850000-1508853600@malaga-ciudad.ciudadanos-cs.org
SUMMARY:Reunión Colegio Administradores Fincas (Juan Cassá)
DESCRIPTION:
URL:http://malaga-ciudad.ciudadanos-cs.org/evento/reunion-colegio-administradores-fincas-juan-cassa/
END:VEVENT
BEGIN:VEVENT
DTSTART;TZID=UTC+0:20171024T180000
DTEND;TZID=UTC+0:20171024T220000
DTSTAMP:20260426T034125
CREATED:20171024T121656Z
LAST-MODIFIED:20171024T121656Z
UID:12477-1508868000-1508882400@malaga-ciudad.ciudadanos-cs.org
SUMMARY:Programa Málaga CF 101 TV (Íñigo Vallejo)
DESCRIPTION:
URL:http://malaga-ciudad.ciudadanos-cs.org/evento/programa-malaga-cf-101-tv-inigo-vallejo/
END:VEVENT
END:VCALENDAR