BEGIN:VCALENDAR
VERSION:2.0
PRODID:-//Ciudadanos | Málaga Ciudad - ECPv4.6.7//NONSGML v1.0//EN
CALSCALE:GREGORIAN
METHOD:PUBLISH
X-WR-CALNAME:Ciudadanos | Málaga Ciudad
X-ORIGINAL-URL:http://malaga-ciudad.ciudadanos-cs.org
X-WR-CALDESC:Events for Ciudadanos | Málaga Ciudad
BEGIN:VEVENT
DTSTART;TZID=UTC+0:20171102T100000
DTEND;TZID=UTC+0:20171102T110000
DTSTAMP:20260426T021333
CREATED:20171031T104156Z
LAST-MODIFIED:20171031T104156Z
UID:12649-1509616800-1509620400@malaga-ciudad.ciudadanos-cs.org
SUMMARY:Rueda de prensa (Juan Cassá)
DESCRIPTION:
URL:http://malaga-ciudad.ciudadanos-cs.org/evento/rueda-de-prensa-juan-cassa-24/
END:VEVENT
BEGIN:VEVENT
DTSTART;TZID=UTC+0:20171102T100000
DTEND;TZID=UTC+0:20171102T140000
DTSTAMP:20260426T021333
CREATED:20171031T104431Z
LAST-MODIFIED:20171031T104431Z
UID:12657-1509616800-1509631200@malaga-ciudad.ciudadanos-cs.org
SUMMARY:Comisión Transparencia (Alejandro Carballo)
DESCRIPTION:
URL:http://malaga-ciudad.ciudadanos-cs.org/evento/comision-transparencia-alejandro-carballo-5/
END:VEVENT
BEGIN:VEVENT
DTSTART;TZID=UTC+0:20171102T110000
DTEND;TZID=UTC+0:20171102T123000
DTSTAMP:20260426T021333
CREATED:20171031T104233Z
LAST-MODIFIED:20171031T104233Z
UID:12651-1509620400-1509625800@malaga-ciudad.ciudadanos-cs.org
SUMMARY:Visita PTA (Juan Cassá)
DESCRIPTION:
URL:http://malaga-ciudad.ciudadanos-cs.org/evento/visita-pta-juan-cassa/
END:VEVENT
BEGIN:VEVENT
DTSTART;TZID=UTC+0:20171102T123000
DTEND;TZID=UTC+0:20171102T133000
DTSTAMP:20260426T021333
CREATED:20171102T100257Z
LAST-MODIFIED:20171102T100257Z
UID:12687-1509625800-1509629400@malaga-ciudad.ciudadanos-cs.org
SUMMARY:Reunión Economía y Hacienda (Juan Cassá)
DESCRIPTION:
URL:http://malaga-ciudad.ciudadanos-cs.org/evento/reunion-economia-y-hacienda-juan-cassa/
END:VEVENT
BEGIN:VEVENT
DTSTART;TZID=UTC+0:20171102T160000
DTEND;TZID=UTC+0:20171102T180000
DTSTAMP:20260426T021333
CREATED:20171031T104306Z
LAST-MODIFIED:20171031T104324Z
UID:12653-1509638400-1509645600@malaga-ciudad.ciudadanos-cs.org
SUMMARY:Entrevista Onda Azul TV (Juan Cassá)
DESCRIPTION:
URL:http://malaga-ciudad.ciudadanos-cs.org/evento/entrevista-onda-azul-tv-juan-cassa-3/
END:VEVENT
BEGIN:VEVENT
DTSTART;TZID=UTC+0:20171102T170000
DTEND;TZID=UTC+0:20171102T180000
DTSTAMP:20260426T021333
CREATED:20171030T111452Z
LAST-MODIFIED:20171030T111452Z
UID:12608-1509642000-1509645600@malaga-ciudad.ciudadanos-cs.org
SUMMARY:Reunión organización (Íñigo Vallejo)
DESCRIPTION:
URL:http://malaga-ciudad.ciudadanos-cs.org/evento/reunion-organizacion-inigo-vallejo/
END:VEVENT
BEGIN:VEVENT
DTSTART;TZID=UTC+0:20171102T173000
DTEND;TZID=UTC+0:20171102T193000
DTSTAMP:20260426T021333
CREATED:20171102T154218Z
LAST-MODIFIED:20171102T154218Z
UID:12702-1509643800-1509651000@malaga-ciudad.ciudadanos-cs.org
SUMMARY:Mesa Proyectos Singulares (Alejandro Carballo)
DESCRIPTION:
URL:http://malaga-ciudad.ciudadanos-cs.org/evento/mesa-proyectos-singulares-alejandro-carballo-4/
END:VEVENT
BEGIN:VEVENT
DTSTART;TZID=UTC+0:20171102T193000
DTEND;TZID=UTC+0:20171102T210000
DTSTAMP:20260426T021333
CREATED:20171031T104357Z
LAST-MODIFIED:20171102T090242Z
UID:12655-1509651000-1509656400@malaga-ciudad.ciudadanos-cs.org
SUMMARY:Reunión recinto ferial (Íñigo Vallejo)
DESCRIPTION:
URL:http://malaga-ciudad.ciudadanos-cs.org/evento/reunion-recinto-ferial-juan-cassa/
END:VEVENT
END:VCALENDAR