BEGIN:VCALENDAR
VERSION:2.0
PRODID:-//Ciudadanos | Málaga Ciudad - ECPv4.6.7//NONSGML v1.0//EN
CALSCALE:GREGORIAN
METHOD:PUBLISH
X-WR-CALNAME:Ciudadanos | Málaga Ciudad
X-ORIGINAL-URL:http://malaga-ciudad.ciudadanos-cs.org
X-WR-CALDESC:Events for Ciudadanos | Málaga Ciudad
BEGIN:VEVENT
DTSTART;TZID=UTC+0:20171104T183000
DTEND;TZID=UTC+0:20171104T193000
DTSTAMP:20260426T033957
CREATED:20171031T104937Z
LAST-MODIFIED:20171031T104937Z
UID:12663-1509820200-1509823800@malaga-ciudad.ciudadanos-cs.org
SUMMARY:Procesión Salud y Esperanza (Juan Cassá)
DESCRIPTION:
URL:http://malaga-ciudad.ciudadanos-cs.org/evento/procesion-salud-y-esperanza-juan-cassa/
END:VEVENT
BEGIN:VEVENT
DTSTART;TZID=UTC+0:20171104T193000
DTEND;TZID=UTC+0:20171104T203000
DTSTAMP:20260426T033957
CREATED:20171104T183921Z
LAST-MODIFIED:20171104T183921Z
UID:12746-1509823800-1509827400@malaga-ciudad.ciudadanos-cs.org
SUMMARY:Procesión Nuestra Señora del Carmen de Belén (Juan Cassá)
DESCRIPTION:
URL:http://malaga-ciudad.ciudadanos-cs.org/evento/procesion-nuestra-senora-del-carmen-de-belen-juan-cassa/
END:VEVENT
BEGIN:VEVENT
DTSTART;TZID=UTC+0:20171104T213000
DTEND;TZID=UTC+0:20171104T223000
DTSTAMP:20260426T033957
CREATED:20171031T105007Z
LAST-MODIFIED:20171031T105007Z
UID:12665-1509831000-1509834600@malaga-ciudad.ciudadanos-cs.org
SUMMARY:Cena cofradía Descendimiento (Juan Cassá)
DESCRIPTION:
URL:http://malaga-ciudad.ciudadanos-cs.org/evento/cena-cofradia-descendimiento-juan-cassa/
END:VEVENT
END:VCALENDAR