BEGIN:VCALENDAR
VERSION:2.0
PRODID:-//Ciudadanos | Málaga Ciudad - ECPv4.6.7//NONSGML v1.0//EN
CALSCALE:GREGORIAN
METHOD:PUBLISH
X-WR-CALNAME:Ciudadanos | Málaga Ciudad
X-ORIGINAL-URL:http://malaga-ciudad.ciudadanos-cs.org
X-WR-CALDESC:Events for Ciudadanos | Málaga Ciudad
BEGIN:VEVENT
DTSTART;TZID=UTC+0:20171113T090000
DTEND;TZID=UTC+0:20171113T110000
DTSTAMP:20260426T021338
CREATED:20171108T092805Z
LAST-MODIFIED:20171108T092805Z
UID:12854-1510563600-1510570800@malaga-ciudad.ciudadanos-cs.org
SUMMARY:Desayuno Fórum Europa con Antonio Sanz (Alejandro Carballo)
DESCRIPTION:
URL:http://malaga-ciudad.ciudadanos-cs.org/evento/desayuno-forum-europa-con-antonio-sanz-alejandro-carballo/
END:VEVENT
BEGIN:VEVENT
DTSTART;TZID=UTC+0:20171113T100000
DTEND;TZID=UTC+0:20171113T110000
DTSTAMP:20260426T021338
CREATED:20171108T092350Z
LAST-MODIFIED:20171113T104754Z
UID:12842-1510567200-1510570800@malaga-ciudad.ciudadanos-cs.org
SUMMARY:Rueda de prensa (Juan Cassá)
DESCRIPTION:
URL:http://malaga-ciudad.ciudadanos-cs.org/evento/grabacion-video-redes-sociales-juan-cassa/
END:VEVENT
BEGIN:VEVENT
DTSTART;TZID=UTC+0:20171113T120000
DTEND;TZID=UTC+0:20171113T130000
DTSTAMP:20260426T021338
CREATED:20171113T105353Z
LAST-MODIFIED:20171113T105527Z
UID:12928-1510574400-1510578000@malaga-ciudad.ciudadanos-cs.org
SUMMARY:Reunión Aena (Alejandro Carballo)
DESCRIPTION:
URL:http://malaga-ciudad.ciudadanos-cs.org/evento/reunion-aena-juan-cassa/
END:VEVENT
BEGIN:VEVENT
DTSTART;TZID=UTC+0:20171113T140000
DTEND;TZID=UTC+0:20171113T160000
DTSTAMP:20260426T021338
CREATED:20171108T092502Z
LAST-MODIFIED:20171108T092502Z
UID:12846-1510581600-1510588800@malaga-ciudad.ciudadanos-cs.org
SUMMARY:Reunión Agrupación Cofradías (Juan Cassá)
DESCRIPTION:
URL:http://malaga-ciudad.ciudadanos-cs.org/evento/reunion-agrupacion-cofradias-juan-cassa-2/
END:VEVENT
BEGIN:VEVENT
DTSTART;TZID=UTC+0:20171113T170000
DTEND;TZID=UTC+0:20171113T190000
DTSTAMP:20260426T021338
CREATED:20171108T092527Z
LAST-MODIFIED:20171108T092527Z
UID:12848-1510592400-1510599600@malaga-ciudad.ciudadanos-cs.org
SUMMARY:Debate Cadena COPE (Juan Cassá)
DESCRIPTION:
URL:http://malaga-ciudad.ciudadanos-cs.org/evento/debate-cadena-cope-juan-cassa-9/
END:VEVENT
BEGIN:VEVENT
DTSTART;TZID=UTC+0:20171113T170000
DTEND;TZID=UTC+0:20171113T190000
DTSTAMP:20260426T021338
CREATED:20171113T105449Z
LAST-MODIFIED:20171113T105449Z
UID:12930-1510592400-1510599600@malaga-ciudad.ciudadanos-cs.org
SUMMARY:Consejo Sectorial Mujeres (Alejandro Carballo)
DESCRIPTION:
URL:http://malaga-ciudad.ciudadanos-cs.org/evento/consejo-sectorial-mujeres-alejandro-carballo/
END:VEVENT
BEGIN:VEVENT
DTSTART;TZID=UTC+0:20171113T190000
DTEND;TZID=UTC+0:20171113T200000
DTSTAMP:20260426T021338
CREATED:20171108T092555Z
LAST-MODIFIED:20171108T092607Z
UID:12850-1510599600-1510603200@malaga-ciudad.ciudadanos-cs.org
SUMMARY:Reunión Federación Peñas (Juan Cassá)
DESCRIPTION:
URL:http://malaga-ciudad.ciudadanos-cs.org/evento/reunion-federacion-penas-juan-cassa-2/
END:VEVENT
BEGIN:VEVENT
DTSTART;TZID=UTC+0:20171113T200000
DTEND;TZID=UTC+0:20171113T220000
DTSTAMP:20260426T021338
CREATED:20171108T092639Z
LAST-MODIFIED:20171108T093004Z
UID:12852-1510603200-1510610400@malaga-ciudad.ciudadanos-cs.org
SUMMARY:Café Ciudadano Agrupación Norte Cs (Juan Cassá)
DESCRIPTION:
URL:http://malaga-ciudad.ciudadanos-cs.org/evento/cafe-ciudadano-agrupacion-norte-cs-juan-cassa/
END:VEVENT
END:VCALENDAR