BEGIN:VCALENDAR
VERSION:2.0
PRODID:-//Ciudadanos | Málaga Ciudad - ECPv4.6.7//NONSGML v1.0//EN
CALSCALE:GREGORIAN
METHOD:PUBLISH
X-WR-CALNAME:Ciudadanos | Málaga Ciudad
X-ORIGINAL-URL:http://malaga-ciudad.ciudadanos-cs.org
X-WR-CALDESC:Events for Ciudadanos | Málaga Ciudad
BEGIN:VEVENT
DTSTART;TZID=UTC+0:20171114T093000
DTEND;TZID=UTC+0:20171114T113000
DTSTAMP:20260426T034136
CREATED:20171114T122051Z
LAST-MODIFIED:20171114T122051Z
UID:12989-1510651800-1510659000@malaga-ciudad.ciudadanos-cs.org
SUMMARY:Consejo IMV (Alejandro Carballo)
DESCRIPTION:
URL:http://malaga-ciudad.ciudadanos-cs.org/evento/consejo-imv-alejandro-carballo-13/
END:VEVENT
BEGIN:VEVENT
DTSTART;TZID=UTC+0:20171114T110000
DTEND;TZID=UTC+0:20171114T130000
DTSTAMP:20260426T034136
CREATED:20171113T105052Z
LAST-MODIFIED:20171114T121921Z
UID:12922-1510657200-1510664400@malaga-ciudad.ciudadanos-cs.org
SUMMARY:Reunión Federación Peñas (Juan Cassá)
DESCRIPTION:
URL:http://malaga-ciudad.ciudadanos-cs.org/evento/rueda-de-prensa-juan-cassa-26/
END:VEVENT
BEGIN:VEVENT
DTSTART;TZID=UTC+0:20171114T140000
DTEND;TZID=UTC+0:20171114T170000
DTSTAMP:20260426T034136
CREATED:20171113T105145Z
LAST-MODIFIED:20171114T121954Z
UID:12924-1510668000-1510678800@malaga-ciudad.ciudadanos-cs.org
SUMMARY:Reunión Cultura (Juan Cassá)
DESCRIPTION:
URL:http://malaga-ciudad.ciudadanos-cs.org/evento/reunion-cultura-juan-cassa-6/
END:VEVENT
BEGIN:VEVENT
DTSTART;TZID=UTC+0:20171114T180000
DTEND;TZID=UTC+0:20171114T190000
DTSTAMP:20260426T034136
CREATED:20171108T092429Z
LAST-MODIFIED:20171114T121820Z
UID:12844-1510682400-1510686000@malaga-ciudad.ciudadanos-cs.org
SUMMARY:Rueda de prensa (Juan Cassá)
DESCRIPTION:
URL:http://malaga-ciudad.ciudadanos-cs.org/evento/inauguracion-proyectos-asociacion-autismo-malaga-juan-cassa/
END:VEVENT
BEGIN:VEVENT
DTSTART;TZID=UTC+0:20171114T190000
DTEND;TZID=UTC+0:20171114T200000
DTSTAMP:20260426T034136
CREATED:20171113T105228Z
LAST-MODIFIED:20171113T105228Z
UID:12926-1510686000-1510689600@malaga-ciudad.ciudadanos-cs.org
SUMMARY:Reunión Moda (Juan Cassá)
DESCRIPTION:
URL:http://malaga-ciudad.ciudadanos-cs.org/evento/reunion-moda-juan-cassa-2/
END:VEVENT
END:VCALENDAR